BEGIN:VCALENDAR
VERSION:2.0
PRODID:-//Country Place Leadership Academy - ECPv6.15.17.1//NONSGML v1.0//EN
CALSCALE:GREGORIAN
METHOD:PUBLISH
X-ORIGINAL-URL:https://cpes.littletonaz.org
X-WR-CALDESC:Events for Country Place Leadership Academy
REFRESH-INTERVAL;VALUE=DURATION:PT1H
X-Robots-Tag:noindex
X-PUBLISHED-TTL:PT1H
BEGIN:VTIMEZONE
TZID:America/Phoenix
BEGIN:STANDARD
TZOFFSETFROM:-0700
TZOFFSETTO:-0700
TZNAME:MST
DTSTART:20250101T000000
END:STANDARD
END:VTIMEZONE
BEGIN:VEVENT
DTSTART;VALUE=DATE:20260302
DTEND;VALUE=DATE:20260307
DTSTAMP:20260423T014757
CREATED:20260123T165000Z
LAST-MODIFIED:20260123T165000Z
UID:10000380-1772409600-1772841599@cpes.littletonaz.org
SUMMARY:Book Fair
DESCRIPTION:
URL:https://cpes.littletonaz.org/calendar-event/book-fair-4
LOCATION:Library
END:VEVENT
BEGIN:VEVENT
DTSTART;VALUE=DATE:20260304
DTEND;VALUE=DATE:20260307
DTSTAMP:20260423T014757
CREATED:20260123T164720Z
LAST-MODIFIED:20260123T164720Z
UID:10000377-1772582400-1772841599@cpes.littletonaz.org
SUMMARY:Parent-Teacher Conferences
DESCRIPTION:
URL:https://cpes.littletonaz.org/calendar-event/parent-teacher-conferences-4
END:VEVENT
BEGIN:VEVENT
DTSTART;VALUE=DATE:20260309
DTEND;VALUE=DATE:20260314
DTSTAMP:20260423T014757
CREATED:20260123T164814Z
LAST-MODIFIED:20260123T164814Z
UID:10000378-1773014400-1773446399@cpes.littletonaz.org
SUMMARY:Spring Break
DESCRIPTION:
URL:https://cpes.littletonaz.org/calendar-event/spring-break-2
END:VEVENT
BEGIN:VEVENT
DTSTART;VALUE=DATE:20260317
DTEND;VALUE=DATE:20260318
DTSTAMP:20260423T014757
CREATED:20260123T165047Z
LAST-MODIFIED:20260123T165047Z
UID:10000381-1773705600-1773791999@cpes.littletonaz.org
SUMMARY:Big Smile Dental Event- Students Only
DESCRIPTION:
URL:https://cpes.littletonaz.org/calendar-event/big-smile-dental-event-students-only
END:VEVENT
BEGIN:VEVENT
DTSTART;TZID=America/Phoenix:20260317T180000
DTEND;TZID=America/Phoenix:20260317T180000
DTSTAMP:20260423T014757
CREATED:20250612T054538Z
LAST-MODIFIED:20250612T054538Z
UID:10000318-1773770400-1773770400@cpes.littletonaz.org
SUMMARY:Governing Board Meeting
DESCRIPTION:
URL:https://cpes.littletonaz.org/calendar-event/governing-board-meeting-32
END:VEVENT
BEGIN:VEVENT
DTSTART;VALUE=DATE:20260318
DTEND;VALUE=DATE:20260319
DTSTAMP:20260423T014757
CREATED:20260123T165134Z
LAST-MODIFIED:20260123T165134Z
UID:10000382-1773792000-1773878399@cpes.littletonaz.org
SUMMARY:Career Day
DESCRIPTION:
URL:https://cpes.littletonaz.org/calendar-event/career-day-2
END:VEVENT
BEGIN:VEVENT
DTSTART;VALUE=DATE:20260324
DTEND;VALUE=DATE:20260325
DTSTAMP:20260423T014757
CREATED:20260227T181908Z
LAST-MODIFIED:20260227T181908Z
UID:10000446-1774310400-1774396799@cpes.littletonaz.org
SUMMARY:AzSCI - Part 1 & 2
DESCRIPTION:
URL:https://cpes.littletonaz.org/calendar-event/azsci-part-1-2
END:VEVENT
BEGIN:VEVENT
DTSTART;VALUE=DATE:20260325
DTEND;VALUE=DATE:20260326
DTSTAMP:20260423T014757
CREATED:20260123T165227Z
LAST-MODIFIED:20260123T165227Z
UID:10000383-1774396800-1774483199@cpes.littletonaz.org
SUMMARY:PTA Dollar Dress Down Day
DESCRIPTION:
URL:https://cpes.littletonaz.org/calendar-event/pta-dollar-dress-down-day
END:VEVENT
BEGIN:VEVENT
DTSTART;VALUE=DATE:20260326
DTEND;VALUE=DATE:20260327
DTSTAMP:20260423T014757
CREATED:20260227T181955Z
LAST-MODIFIED:20260227T181955Z
UID:10000447-1774483200-1774569599@cpes.littletonaz.org
SUMMARY:AzSCI - Part 3
DESCRIPTION:
URL:https://cpes.littletonaz.org/calendar-event/azsci-part-3
END:VEVENT
BEGIN:VEVENT
DTSTART;TZID=America/Phoenix:20260326T163000
DTEND;TZID=America/Phoenix:20260326T180000
DTSTAMP:20260423T014757
CREATED:20260322T204919Z
LAST-MODIFIED:20260322T204919Z
UID:10000459-1774542600-1774548000@cpes.littletonaz.org
SUMMARY:Job Fair
DESCRIPTION:
URL:https://cpes.littletonaz.org/calendar-event/job-fair
LOCATION:Littleton ESD District Office
END:VEVENT
BEGIN:VEVENT
DTSTART;TZID=America/Phoenix:20260326T163000
DTEND;TZID=America/Phoenix:20260326T183000
DTSTAMP:20260423T014757
CREATED:20260123T165327Z
LAST-MODIFIED:20260324T155522Z
UID:10000384-1774542600-1774549800@cpes.littletonaz.org
SUMMARY:Movie Night
DESCRIPTION:
URL:https://cpes.littletonaz.org/calendar-event/guardian-light-gala
LOCATION:Cafeteria
END:VEVENT
BEGIN:VEVENT
DTSTART;VALUE=DATE:20260328
DTEND;VALUE=DATE:20260329
DTSTAMP:20260423T014757
CREATED:20260123T164907Z
LAST-MODIFIED:20260123T164907Z
UID:10000379-1774656000-1774742399@cpes.littletonaz.org
SUMMARY:District Arts Festival
DESCRIPTION:
URL:https://cpes.littletonaz.org/calendar-event/district-arts-festival
END:VEVENT
BEGIN:VEVENT
DTSTART;VALUE=DATE:20260331
DTEND;VALUE=DATE:20260401
DTSTAMP:20260423T014757
CREATED:20260227T182038Z
LAST-MODIFIED:20260227T182038Z
UID:10000448-1774915200-1775001599@cpes.littletonaz.org
SUMMARY:AASA - Writing
DESCRIPTION:
URL:https://cpes.littletonaz.org/calendar-event/aasa-writing
END:VEVENT
END:VCALENDAR