BEGIN:VCALENDAR
VERSION:2.0
PRODID:-//Country Place Leadership Academy - ECPv6.15.17.1//NONSGML v1.0//EN
CALSCALE:GREGORIAN
METHOD:PUBLISH
X-WR-CALNAME:Country Place Leadership Academy
X-ORIGINAL-URL:https://cpes.littletonaz.org
X-WR-CALDESC:Events for Country Place Leadership Academy
REFRESH-INTERVAL;VALUE=DURATION:PT1H
X-Robots-Tag:noindex
X-PUBLISHED-TTL:PT1H
BEGIN:VTIMEZONE
TZID:America/Phoenix
BEGIN:STANDARD
TZOFFSETFROM:-0700
TZOFFSETTO:-0700
TZNAME:MST
DTSTART:20230101T000000
END:STANDARD
END:VTIMEZONE
BEGIN:VEVENT
DTSTART;VALUE=DATE:20240712
DTEND;VALUE=DATE:20240713
DTSTAMP:20260421T185714
CREATED:20240520T155016Z
LAST-MODIFIED:20240520T155016Z
UID:10000099-1720742400-1720828799@cpes.littletonaz.org
SUMMARY:Summer Meal Program Ends
DESCRIPTION:
URL:https://cpes.littletonaz.org/calendar-event/summer-meal-program-ends
END:VEVENT
END:VCALENDAR